BEGIN:VCALENDAR
VERSION:2.0
PRODID:-//Church of the Good Shepherd - ECPv6.15.20//NONSGML v1.0//EN
CALSCALE:GREGORIAN
METHOD:PUBLISH
X-WR-CALNAME:Church of the Good Shepherd
X-ORIGINAL-URL:https://goodshepherdnorfolk.org
X-WR-CALDESC:Events for Church of the Good Shepherd
REFRESH-INTERVAL;VALUE=DURATION:PT1H
X-Robots-Tag:noindex
X-PUBLISHED-TTL:PT1H
BEGIN:VTIMEZONE
TZID:America/New_York
BEGIN:DAYLIGHT
TZOFFSETFROM:-0500
TZOFFSETTO:-0400
TZNAME:EDT
DTSTART:20250309T070000
END:DAYLIGHT
BEGIN:STANDARD
TZOFFSETFROM:-0400
TZOFFSETTO:-0500
TZNAME:EST
DTSTART:20251102T060000
END:STANDARD
BEGIN:DAYLIGHT
TZOFFSETFROM:-0500
TZOFFSETTO:-0400
TZNAME:EDT
DTSTART:20260308T070000
END:DAYLIGHT
BEGIN:STANDARD
TZOFFSETFROM:-0400
TZOFFSETTO:-0500
TZNAME:EST
DTSTART:20261101T060000
END:STANDARD
BEGIN:DAYLIGHT
TZOFFSETFROM:-0500
TZOFFSETTO:-0400
TZNAME:EDT
DTSTART:20270314T070000
END:DAYLIGHT
BEGIN:STANDARD
TZOFFSETFROM:-0400
TZOFFSETTO:-0500
TZNAME:EST
DTSTART:20271107T060000
END:STANDARD
END:VTIMEZONE
BEGIN:VEVENT
DTSTART;TZID=America/New_York:20260510T150000
DTEND;TZID=America/New_York:20260510T170000
DTSTAMP:20260424T042058
CREATED:20260413T160643Z
LAST-MODIFIED:20260421T135734Z
UID:30030232-1778425200-1778432400@goodshepherdnorfolk.org
SUMMARY:H.O.P.E. Feeding Ministry
DESCRIPTION:Good Shepherd is committed to helping those experiencing homelessness and hunger in our community through our involvement with the H.O.P.E Foundation\, Inc. (hopefdn.org).  H.O.P.E.’s efforts aim to help restore faith and hope by Helping Others Pursue Excellence. \nGood Shepherd is supporting our neighbor’s experiencing homelessness by preparing and serving meals over the next six months (May – Nov. 2026). Volunteers will serve as part of a team\, working together to plan and prepare a meal for about 60 recipients; a subset of the team will deliver those meals to 2-3 designated drop-off locations in the community on our appointed Sundays. \nSign Up Here
URL:https://goodshepherdnorfolk.org/event/h-o-p-e-feeding-ministry-3/2026-05-10/
CATEGORIES:Featured
ATTACH;FMTTYPE=image/png:https://goodshepherdnorfolk.org/wp-content/uploads/2026/04/October-19-3.png
END:VEVENT
BEGIN:VEVENT
DTSTART;TZID=America/New_York:20260531T150000
DTEND;TZID=America/New_York:20260531T170000
DTSTAMP:20260424T042058
CREATED:20260413T160643Z
LAST-MODIFIED:20260421T135734Z
UID:30030233-1780239600-1780246800@goodshepherdnorfolk.org
SUMMARY:H.O.P.E. Feeding Ministry
DESCRIPTION:Good Shepherd is committed to helping those experiencing homelessness and hunger in our community through our involvement with the H.O.P.E Foundation\, Inc. (hopefdn.org).  H.O.P.E.’s efforts aim to help restore faith and hope by Helping Others Pursue Excellence. \nGood Shepherd is supporting our neighbor’s experiencing homelessness by preparing and serving meals over the next six months (May – Nov. 2026). Volunteers will serve as part of a team\, working together to plan and prepare a meal for about 60 recipients; a subset of the team will deliver those meals to 2-3 designated drop-off locations in the community on our appointed Sundays. \nSign Up Here
URL:https://goodshepherdnorfolk.org/event/h-o-p-e-feeding-ministry-3/2026-05-31/
CATEGORIES:Featured
ATTACH;FMTTYPE=image/png:https://goodshepherdnorfolk.org/wp-content/uploads/2026/04/October-19-3.png
END:VEVENT
BEGIN:VEVENT
DTSTART;TZID=America/New_York:20260621T150000
DTEND;TZID=America/New_York:20260621T170000
DTSTAMP:20260424T042058
CREATED:20260413T160643Z
LAST-MODIFIED:20260421T135734Z
UID:30030234-1782054000-1782061200@goodshepherdnorfolk.org
SUMMARY:H.O.P.E. Feeding Ministry
DESCRIPTION:Good Shepherd is committed to helping those experiencing homelessness and hunger in our community through our involvement with the H.O.P.E Foundation\, Inc. (hopefdn.org).  H.O.P.E.’s efforts aim to help restore faith and hope by Helping Others Pursue Excellence. \nGood Shepherd is supporting our neighbor’s experiencing homelessness by preparing and serving meals over the next six months (May – Nov. 2026). Volunteers will serve as part of a team\, working together to plan and prepare a meal for about 60 recipients; a subset of the team will deliver those meals to 2-3 designated drop-off locations in the community on our appointed Sundays. \nSign Up Here
URL:https://goodshepherdnorfolk.org/event/h-o-p-e-feeding-ministry-3/2026-06-21/
CATEGORIES:Featured
ATTACH;FMTTYPE=image/png:https://goodshepherdnorfolk.org/wp-content/uploads/2026/04/October-19-3.png
END:VEVENT
BEGIN:VEVENT
DTSTART;TZID=America/New_York:20260719T150000
DTEND;TZID=America/New_York:20260719T170000
DTSTAMP:20260424T042058
CREATED:20260413T160643Z
LAST-MODIFIED:20260421T135734Z
UID:30030235-1784473200-1784480400@goodshepherdnorfolk.org
SUMMARY:H.O.P.E. Feeding Ministry
DESCRIPTION:Good Shepherd is committed to helping those experiencing homelessness and hunger in our community through our involvement with the H.O.P.E Foundation\, Inc. (hopefdn.org).  H.O.P.E.’s efforts aim to help restore faith and hope by Helping Others Pursue Excellence. \nGood Shepherd is supporting our neighbor’s experiencing homelessness by preparing and serving meals over the next six months (May – Nov. 2026). Volunteers will serve as part of a team\, working together to plan and prepare a meal for about 60 recipients; a subset of the team will deliver those meals to 2-3 designated drop-off locations in the community on our appointed Sundays. \nSign Up Here
URL:https://goodshepherdnorfolk.org/event/h-o-p-e-feeding-ministry-3/2026-07-19/
CATEGORIES:Featured
ATTACH;FMTTYPE=image/png:https://goodshepherdnorfolk.org/wp-content/uploads/2026/04/October-19-3.png
END:VEVENT
BEGIN:VEVENT
DTSTART;TZID=America/New_York:20260816T150000
DTEND;TZID=America/New_York:20260816T170000
DTSTAMP:20260424T042058
CREATED:20260413T160643Z
LAST-MODIFIED:20260421T135734Z
UID:30030236-1786892400-1786899600@goodshepherdnorfolk.org
SUMMARY:H.O.P.E. Feeding Ministry
DESCRIPTION:Good Shepherd is committed to helping those experiencing homelessness and hunger in our community through our involvement with the H.O.P.E Foundation\, Inc. (hopefdn.org).  H.O.P.E.’s efforts aim to help restore faith and hope by Helping Others Pursue Excellence. \nGood Shepherd is supporting our neighbor’s experiencing homelessness by preparing and serving meals over the next six months (May – Nov. 2026). Volunteers will serve as part of a team\, working together to plan and prepare a meal for about 60 recipients; a subset of the team will deliver those meals to 2-3 designated drop-off locations in the community on our appointed Sundays. \nSign Up Here
URL:https://goodshepherdnorfolk.org/event/h-o-p-e-feeding-ministry-3/2026-08-16/
CATEGORIES:Featured
ATTACH;FMTTYPE=image/png:https://goodshepherdnorfolk.org/wp-content/uploads/2026/04/October-19-3.png
END:VEVENT
BEGIN:VEVENT
DTSTART;TZID=America/New_York:20260920T150000
DTEND;TZID=America/New_York:20260920T170000
DTSTAMP:20260424T042058
CREATED:20260413T160643Z
LAST-MODIFIED:20260421T135734Z
UID:30030237-1789916400-1789923600@goodshepherdnorfolk.org
SUMMARY:H.O.P.E. Feeding Ministry
DESCRIPTION:Good Shepherd is committed to helping those experiencing homelessness and hunger in our community through our involvement with the H.O.P.E Foundation\, Inc. (hopefdn.org).  H.O.P.E.’s efforts aim to help restore faith and hope by Helping Others Pursue Excellence. \nGood Shepherd is supporting our neighbor’s experiencing homelessness by preparing and serving meals over the next six months (May – Nov. 2026). Volunteers will serve as part of a team\, working together to plan and prepare a meal for about 60 recipients; a subset of the team will deliver those meals to 2-3 designated drop-off locations in the community on our appointed Sundays. \nSign Up Here
URL:https://goodshepherdnorfolk.org/event/h-o-p-e-feeding-ministry-3/2026-09-20/
CATEGORIES:Featured
ATTACH;FMTTYPE=image/png:https://goodshepherdnorfolk.org/wp-content/uploads/2026/04/October-19-3.png
END:VEVENT
BEGIN:VEVENT
DTSTART;TZID=America/New_York:20261004T150000
DTEND;TZID=America/New_York:20261004T170000
DTSTAMP:20260424T042058
CREATED:20260413T160643Z
LAST-MODIFIED:20260421T135734Z
UID:30030238-1791126000-1791133200@goodshepherdnorfolk.org
SUMMARY:H.O.P.E. Feeding Ministry
DESCRIPTION:Good Shepherd is committed to helping those experiencing homelessness and hunger in our community through our involvement with the H.O.P.E Foundation\, Inc. (hopefdn.org).  H.O.P.E.’s efforts aim to help restore faith and hope by Helping Others Pursue Excellence. \nGood Shepherd is supporting our neighbor’s experiencing homelessness by preparing and serving meals over the next six months (May – Nov. 2026). Volunteers will serve as part of a team\, working together to plan and prepare a meal for about 60 recipients; a subset of the team will deliver those meals to 2-3 designated drop-off locations in the community on our appointed Sundays. \nSign Up Here
URL:https://goodshepherdnorfolk.org/event/h-o-p-e-feeding-ministry-3/2026-10-04/
CATEGORIES:Featured
ATTACH;FMTTYPE=image/png:https://goodshepherdnorfolk.org/wp-content/uploads/2026/04/October-19-3.png
END:VEVENT
BEGIN:VEVENT
DTSTART;TZID=America/New_York:20261018T150000
DTEND;TZID=America/New_York:20261018T170000
DTSTAMP:20260424T042058
CREATED:20260413T160643Z
LAST-MODIFIED:20260421T135734Z
UID:30030239-1792335600-1792342800@goodshepherdnorfolk.org
SUMMARY:H.O.P.E. Feeding Ministry
DESCRIPTION:Good Shepherd is committed to helping those experiencing homelessness and hunger in our community through our involvement with the H.O.P.E Foundation\, Inc. (hopefdn.org).  H.O.P.E.’s efforts aim to help restore faith and hope by Helping Others Pursue Excellence. \nGood Shepherd is supporting our neighbor’s experiencing homelessness by preparing and serving meals over the next six months (May – Nov. 2026). Volunteers will serve as part of a team\, working together to plan and prepare a meal for about 60 recipients; a subset of the team will deliver those meals to 2-3 designated drop-off locations in the community on our appointed Sundays. \nSign Up Here
URL:https://goodshepherdnorfolk.org/event/h-o-p-e-feeding-ministry-3/2026-10-18/
CATEGORIES:Featured
ATTACH;FMTTYPE=image/png:https://goodshepherdnorfolk.org/wp-content/uploads/2026/04/October-19-3.png
END:VEVENT
BEGIN:VEVENT
DTSTART;TZID=America/New_York:20261108T150000
DTEND;TZID=America/New_York:20261108T170000
DTSTAMP:20260424T042058
CREATED:20260413T160643Z
LAST-MODIFIED:20260421T135734Z
UID:30030240-1794150000-1794157200@goodshepherdnorfolk.org
SUMMARY:H.O.P.E. Feeding Ministry
DESCRIPTION:Good Shepherd is committed to helping those experiencing homelessness and hunger in our community through our involvement with the H.O.P.E Foundation\, Inc. (hopefdn.org).  H.O.P.E.’s efforts aim to help restore faith and hope by Helping Others Pursue Excellence. \nGood Shepherd is supporting our neighbor’s experiencing homelessness by preparing and serving meals over the next six months (May – Nov. 2026). Volunteers will serve as part of a team\, working together to plan and prepare a meal for about 60 recipients; a subset of the team will deliver those meals to 2-3 designated drop-off locations in the community on our appointed Sundays. \nSign Up Here
URL:https://goodshepherdnorfolk.org/event/h-o-p-e-feeding-ministry-3/2026-11-08/
CATEGORIES:Featured
ATTACH;FMTTYPE=image/png:https://goodshepherdnorfolk.org/wp-content/uploads/2026/04/October-19-3.png
END:VEVENT
END:VCALENDAR